BEGIN:VCALENDAR
VERSION:2.0
PRODID:-//Leamington Yoga Instructors Therapy Classes - The Heart of Yoga - ECPv4.5.13//NONSGML v1.0//EN
CALSCALE:GREGORIAN
METHOD:PUBLISH
X-WR-CALNAME:Leamington Yoga Instructors Therapy Classes - The Heart of Yoga
X-ORIGINAL-URL:https://leamingtonyogacentre.co.uk
X-WR-CALDESC:Events for Leamington Yoga Instructors Therapy Classes - The Heart of Yoga
BEGIN:VEVENT
DTSTART;TZID=Europe/London:20211201T164500
DTEND;TZID=Europe/London:20211201T174500
DTSTAMP:20260422T062000
CREATED:20211129T104138Z
LAST-MODIFIED:20211129T112407Z
UID:10357-1638377100-1638380700@leamingtonyogacentre.co.uk
SUMMARY:Yin Yoga
DESCRIPTION:
URL:https://leamingtonyogacentre.co.uk/event/yin-yoga-228/
LOCATION:15 Dormer Place\, Leamington Spa\, Warwickshire\, CV32 5AA\, United Kingdom
END:VEVENT
BEGIN:VEVENT
DTSTART;TZID=Europe/London:20211201T180000
DTEND;TZID=Europe/London:20211201T191500
DTSTAMP:20260422T062000
CREATED:20210929T065919Z
LAST-MODIFIED:20210929T065919Z
UID:10013-1638381600-1638386100@leamingtonyogacentre.co.uk
SUMMARY:Beginners 2nd Module
DESCRIPTION:
URL:https://leamingtonyogacentre.co.uk/event/beginners-2nd-module-90/
LOCATION:15 Dormer Place\, Leamington Spa\, Warwickshire\, CV32 5AA\, United Kingdom
END:VEVENT
BEGIN:VEVENT
DTSTART;TZID=Europe/London:20211201T193000
DTEND;TZID=Europe/London:20211201T210000
DTSTAMP:20260422T062000
CREATED:20210906T094145Z
LAST-MODIFIED:20210906T094432Z
UID:9703-1638387000-1638392400@leamingtonyogacentre.co.uk
SUMMARY:Andiappan Yoga
DESCRIPTION:
URL:https://leamingtonyogacentre.co.uk/event/andiappan-yoga-597/
LOCATION:15 Dormer Place\, Leamington Spa\, Warwickshire\, CV32 5AA\, United Kingdom
END:VEVENT
END:VCALENDAR