BEGIN:VCALENDAR
VERSION:2.0
PRODID:-//Leamington Yoga Instructors Therapy Classes - The Heart of Yoga - ECPv4.5.13//NONSGML v1.0//EN
CALSCALE:GREGORIAN
METHOD:PUBLISH
X-WR-CALNAME:Leamington Yoga Instructors Therapy Classes - The Heart of Yoga
X-ORIGINAL-URL:https://leamingtonyogacentre.co.uk
X-WR-CALDESC:Events for Leamington Yoga Instructors Therapy Classes - The Heart of Yoga
BEGIN:VEVENT
DTSTART;TZID=Europe/London:20211104T120000
DTEND;TZID=Europe/London:20211104T130000
DTSTAMP:20260422T061820
CREATED:20201014T170001Z
LAST-MODIFIED:20210825T141551Z
UID:8577-1636027200-1636030800@leamingtonyogacentre.co.uk
SUMMARY:Pure Yoga
DESCRIPTION:
URL:https://leamingtonyogacentre.co.uk/event/pure-yoga-28/
LOCATION:15 Dormer Place\, Leamington Spa\, Warwickshire\, CV32 5AA\, United Kingdom
END:VEVENT
BEGIN:VEVENT
DTSTART;TZID=Europe/London:20211104T163000
DTEND;TZID=Europe/London:20211104T173000
DTSTAMP:20260422T061820
CREATED:20210922T065136Z
LAST-MODIFIED:20210922T065136Z
UID:9893-1636043400-1636047000@leamingtonyogacentre.co.uk
SUMMARY:Hatha Hour
DESCRIPTION:
URL:https://leamingtonyogacentre.co.uk/event/hatha-hour-822/
LOCATION:15 Dormer Place\, Leamington Spa\, Warwickshire\, CV32 5AA\, United Kingdom
END:VEVENT
BEGIN:VEVENT
DTSTART;TZID=Europe/London:20211104T180000
DTEND;TZID=Europe/London:20211104T191500
DTSTAMP:20260422T061820
CREATED:20210906T095015Z
LAST-MODIFIED:20210906T095015Z
UID:9714-1636048800-1636053300@leamingtonyogacentre.co.uk
SUMMARY:Beginners 2nd Module
DESCRIPTION:
URL:https://leamingtonyogacentre.co.uk/event/beginners-2nd-module-84/
LOCATION:15 Dormer Place\, Leamington Spa\, Warwickshire\, CV32 5AA\, United Kingdom
END:VEVENT
BEGIN:VEVENT
DTSTART;TZID=Europe/London:20211104T193000
DTEND;TZID=Europe/London:20211104T204500
DTSTAMP:20260422T061820
CREATED:20210913T074446Z
LAST-MODIFIED:20210913T074446Z
UID:9794-1636054200-1636058700@leamingtonyogacentre.co.uk
SUMMARY:Dynamic Hatha Yoga
DESCRIPTION:
URL:https://leamingtonyogacentre.co.uk/event/dynamic-hatha-yoga-169/
LOCATION:15 Dormer Place\, Leamington Spa\, Warwickshire\, CV32 5AA\, United Kingdom
END:VEVENT
END:VCALENDAR