BEGIN:VCALENDAR
VERSION:2.0
PRODID:-//Leamington Yoga Instructors Therapy Classes - The Heart of Yoga - ECPv4.5.13//NONSGML v1.0//EN
CALSCALE:GREGORIAN
METHOD:PUBLISH
X-WR-CALNAME:Leamington Yoga Instructors Therapy Classes - The Heart of Yoga
X-ORIGINAL-URL:https://leamingtonyogacentre.co.uk
X-WR-CALDESC:Events for Leamington Yoga Instructors Therapy Classes - The Heart of Yoga
BEGIN:VEVENT
DTSTART;TZID=Europe/London:20211006T163000
DTEND;TZID=Europe/London:20211006T173000
DTSTAMP:20260422T095210
CREATED:20210627T153407Z
LAST-MODIFIED:20210811T083950Z
UID:9259-1633537800-1633541400@leamingtonyogacentre.co.uk
SUMMARY:Hatha Hour
DESCRIPTION:
URL:https://leamingtonyogacentre.co.uk/event/hatha-hour-725/
LOCATION:15 Dormer Place\, Leamington Spa\, Warwickshire\, CV32 5AA\, United Kingdom
END:VEVENT
BEGIN:VEVENT
DTSTART;TZID=Europe/London:20211006T180000
DTEND;TZID=Europe/London:20211006T191500
DTSTAMP:20260422T095210
CREATED:20210802T075856Z
LAST-MODIFIED:20210821T064506Z
UID:9473-1633543200-1633547700@leamingtonyogacentre.co.uk
SUMMARY:Autumn Beginners Yoga Course
DESCRIPTION:
URL:https://leamingtonyogacentre.co.uk/event/beginners-yoga-course-a-32/
LOCATION:15 Dormer Place\, Leamington Spa\, Warwickshire\, CV32 5AA\, United Kingdom
END:VEVENT
BEGIN:VEVENT
DTSTART;TZID=Europe/London:20211006T193000
DTEND;TZID=Europe/London:20211006T210000
DTSTAMP:20260422T095210
CREATED:20201123T094720Z
LAST-MODIFIED:20210609T135713Z
UID:8815-1633548600-1633554000@leamingtonyogacentre.co.uk
SUMMARY:Andiappan Yoga
DESCRIPTION:
URL:https://leamingtonyogacentre.co.uk/event/andiappan-yoga-579/
LOCATION:15 Dormer Place\, Leamington Spa\, Warwickshire\, CV32 5AA\, United Kingdom
END:VEVENT
END:VCALENDAR