BEGIN:VCALENDAR
VERSION:2.0
PRODID:-//Leamington Yoga Instructors Therapy Classes - The Heart of Yoga - ECPv4.5.13//NONSGML v1.0//EN
CALSCALE:GREGORIAN
METHOD:PUBLISH
X-WR-CALNAME:Leamington Yoga Instructors Therapy Classes - The Heart of Yoga
X-ORIGINAL-URL:https://leamingtonyogacentre.co.uk
X-WR-CALDESC:Events for Leamington Yoga Instructors Therapy Classes - The Heart of Yoga
BEGIN:VEVENT
DTSTART;TZID=Europe/London:20211005T070000
DTEND;TZID=Europe/London:20211005T083000
DTSTAMP:20260422T080946
CREATED:20210823T081709Z
LAST-MODIFIED:20210823T081709Z
UID:9620-1633417200-1633422600@leamingtonyogacentre.co.uk
SUMMARY:Morning Yoga Practice
DESCRIPTION:
URL:https://leamingtonyogacentre.co.uk/event/morning-yoga-practice-178/
LOCATION:15 Dormer Place\, Leamington Spa\, Warwickshire\, CV32 5AA\, United Kingdom
END:VEVENT
BEGIN:VEVENT
DTSTART;TZID=Europe/London:20211005T123000
DTEND;TZID=Europe/London:20211005T133000
DTSTAMP:20260422T080946
CREATED:20210628T074732Z
LAST-MODIFIED:20210816T091236Z
UID:9278-1633437000-1633440600@leamingtonyogacentre.co.uk
SUMMARY:Pure Yoga
DESCRIPTION:
URL:https://leamingtonyogacentre.co.uk/event/pure-yoga-46/
LOCATION:15 Dormer Place\, Leamington Spa\, Warwickshire\, CV32 5AA\, United Kingdom
END:VEVENT
BEGIN:VEVENT
DTSTART;TZID=Europe/London:20211005T163000
DTEND;TZID=Europe/London:20211005T173000
DTSTAMP:20260422T080946
CREATED:20201123T092322Z
LAST-MODIFIED:20210803T081312Z
UID:8785-1633451400-1633455000@leamingtonyogacentre.co.uk
SUMMARY:Back Care Yoga
DESCRIPTION:
URL:https://leamingtonyogacentre.co.uk/event/back-care-yoga-381/
LOCATION:15 Dormer Place\, Leamington Spa\, Warwickshire\, CV32 5AA\, United Kingdom
END:VEVENT
BEGIN:VEVENT
DTSTART;TZID=Europe/London:20211005T180000
DTEND;TZID=Europe/London:20211005T190000
DTSTAMP:20260422T080946
CREATED:20210908T073818Z
LAST-MODIFIED:20210908T073818Z
UID:9763-1633456800-1633460400@leamingtonyogacentre.co.uk
SUMMARY:Hatha Hour
DESCRIPTION:
URL:https://leamingtonyogacentre.co.uk/event/hatha-hour-790/
LOCATION:15 Dormer Place\, Leamington Spa\, Warwickshire\, CV32 5AA\, United Kingdom
END:VEVENT
BEGIN:VEVENT
DTSTART;TZID=Europe/London:20211005T193000
DTEND;TZID=Europe/London:20211005T204500
DTSTAMP:20260422T080946
CREATED:20210906T100845Z
LAST-MODIFIED:20210906T100953Z
UID:9738-1633462200-1633466700@leamingtonyogacentre.co.uk
SUMMARY:Dynamic Hatha Yoga
DESCRIPTION:
URL:https://leamingtonyogacentre.co.uk/event/dynamic-hatha-yoga-155/
LOCATION:15 Dormer Place\, Leamington Spa\, Warwickshire\, CV32 5AA\, United Kingdom
END:VEVENT
END:VCALENDAR