BEGIN:VCALENDAR
VERSION:2.0
PRODID:-//Leamington Yoga Instructors Therapy Classes - The Heart of Yoga - ECPv4.5.13//NONSGML v1.0//EN
CALSCALE:GREGORIAN
METHOD:PUBLISH
X-WR-CALNAME:Leamington Yoga Instructors Therapy Classes - The Heart of Yoga
X-ORIGINAL-URL:https://leamingtonyogacentre.co.uk
X-WR-CALDESC:Events for Leamington Yoga Instructors Therapy Classes - The Heart of Yoga
BEGIN:VEVENT
DTSTART;TZID=Europe/London:20211002T070000
DTEND;TZID=Europe/London:20211002T083000
DTSTAMP:20260422T080854
CREATED:20210816T065455Z
LAST-MODIFIED:20210816T065455Z
UID:9554-1633158000-1633163400@leamingtonyogacentre.co.uk
SUMMARY:Yoga Mash Up (Special Batch)
DESCRIPTION:
URL:https://leamingtonyogacentre.co.uk/event/yoga-mash-up-special-batch-151/
LOCATION:15 Dormer Place\, Leamington Spa\, Warwickshire\, CV32 5AA\, United Kingdom
END:VEVENT
BEGIN:VEVENT
DTSTART;TZID=Europe/London:20211002T090000
DTEND;TZID=Europe/London:20211002T103000
DTSTAMP:20260422T080854
CREATED:20210815T171016Z
LAST-MODIFIED:20210815T171016Z
UID:9528-1633165200-1633170600@leamingtonyogacentre.co.uk
SUMMARY:Andiappan Yoga
DESCRIPTION:
URL:https://leamingtonyogacentre.co.uk/event/andiappan-yoga-586/
LOCATION:15 Dormer Place\, Leamington Spa\, Warwickshire\, CV32 5AA\, United Kingdom
END:VEVENT
BEGIN:VEVENT
DTSTART;TZID=Europe/London:20211002T110000
DTEND;TZID=Europe/London:20211002T120000
DTSTAMP:20260422T080854
CREATED:20210628T084309Z
LAST-MODIFIED:20210816T070444Z
UID:9309-1633172400-1633176000@leamingtonyogacentre.co.uk
SUMMARY:Hatha Hour
DESCRIPTION:
URL:https://leamingtonyogacentre.co.uk/event/hatha-hour-734/
LOCATION:15 Dormer Place\, Leamington Spa\, Warwickshire\, CV32 5AA\, United Kingdom
END:VEVENT
BEGIN:VEVENT
DTSTART;TZID=Europe/London:20211002T123000
DTEND;TZID=Europe/London:20211002T133000
DTSTAMP:20260422T080854
CREATED:20210915T072329Z
LAST-MODIFIED:20210915T072329Z
UID:9839-1633177800-1633181400@leamingtonyogacentre.co.uk
SUMMARY:Back Care Yoga
DESCRIPTION:
URL:https://leamingtonyogacentre.co.uk/event/back-care-yoga-362/
LOCATION:15 Dormer Place\, Leamington Spa\, Warwickshire\, CV32 5AA\, United Kingdom
END:VEVENT
END:VCALENDAR