BEGIN:VCALENDAR
VERSION:2.0
PRODID:-//Leamington Yoga Instructors Therapy Classes - The Heart of Yoga - ECPv4.5.13//NONSGML v1.0//EN
CALSCALE:GREGORIAN
METHOD:PUBLISH
X-WR-CALNAME:Leamington Yoga Instructors Therapy Classes - The Heart of Yoga
X-ORIGINAL-URL:https://leamingtonyogacentre.co.uk
X-WR-CALDESC:Events for Leamington Yoga Instructors Therapy Classes - The Heart of Yoga
BEGIN:VEVENT
DTSTART;TZID=Europe/London:20210930T120000
DTEND;TZID=Europe/London:20210930T130000
DTSTAMP:20260422T081252
CREATED:20210705T095852Z
LAST-MODIFIED:20210705T095852Z
UID:9411-1633003200-1633006800@leamingtonyogacentre.co.uk
SUMMARY:Pure Yoga
DESCRIPTION:
URL:https://leamingtonyogacentre.co.uk/event/pure-yoga-59/
LOCATION:15 Dormer Place\, Leamington Spa\, Warwickshire\, CV32 5AA\, United Kingdom
END:VEVENT
BEGIN:VEVENT
DTSTART;TZID=Europe/London:20210930T163000
DTEND;TZID=Europe/London:20210930T173000
DTSTAMP:20260422T081252
CREATED:20210825T141000Z
LAST-MODIFIED:20210825T141000Z
UID:9676-1633019400-1633023000@leamingtonyogacentre.co.uk
SUMMARY:Hatha Hour
DESCRIPTION:
URL:https://leamingtonyogacentre.co.uk/event/hatha-hour-786/
LOCATION:15 Dormer Place\, Leamington Spa\, Warwickshire\, CV32 5AA\, United Kingdom
END:VEVENT
BEGIN:VEVENT
DTSTART;TZID=Europe/London:20210930T180000
DTEND;TZID=Europe/London:20210930T191500
DTSTAMP:20260422T081252
CREATED:20210802T075652Z
LAST-MODIFIED:20210802T075652Z
UID:9469-1633024800-1633029300@leamingtonyogacentre.co.uk
SUMMARY:Beginners Yoga Course  B
DESCRIPTION:
URL:https://leamingtonyogacentre.co.uk/event/beginners-yoga-course-b-27/
LOCATION:15 Dormer Place\, Leamington Spa\, Warwickshire\, CV32 5AA\, United Kingdom
END:VEVENT
BEGIN:VEVENT
DTSTART;TZID=Europe/London:20210930T193000
DTEND;TZID=Europe/London:20210930T204500
DTSTAMP:20260422T081252
CREATED:20210725T145114Z
LAST-MODIFIED:20210725T145114Z
UID:9435-1633030200-1633034700@leamingtonyogacentre.co.uk
SUMMARY:Dynamic Hatha Yoga
DESCRIPTION:
URL:https://leamingtonyogacentre.co.uk/event/dynamic-hatha-yoga-154/
LOCATION:15 Dormer Place\, Leamington Spa\, Warwickshire\, CV32 5AA\, United Kingdom
END:VEVENT
END:VCALENDAR