BEGIN:VCALENDAR
VERSION:2.0
PRODID:-//Leamington Yoga Instructors Therapy Classes - The Heart of Yoga - ECPv4.5.13//NONSGML v1.0//EN
CALSCALE:GREGORIAN
METHOD:PUBLISH
X-WR-CALNAME:Leamington Yoga Instructors Therapy Classes - The Heart of Yoga
X-ORIGINAL-URL:https://leamingtonyogacentre.co.uk
X-WR-CALDESC:Events for Leamington Yoga Instructors Therapy Classes - The Heart of Yoga
BEGIN:VEVENT
DTSTART;TZID=Europe/London:20210921T070000
DTEND;TZID=Europe/London:20210921T083000
DTSTAMP:20260422T095544
CREATED:20210705T094938Z
LAST-MODIFIED:20210705T094938Z
UID:9398-1632207600-1632213000@leamingtonyogacentre.co.uk
SUMMARY:Morning Yoga Practice
DESCRIPTION:
URL:https://leamingtonyogacentre.co.uk/event/morning-yoga-practice-176/
LOCATION:15 Dormer Place\, Leamington Spa\, Warwickshire\, CV32 5AA\, United Kingdom
END:VEVENT
BEGIN:VEVENT
DTSTART;TZID=Europe/London:20210921T123000
DTEND;TZID=Europe/London:20210921T133000
DTSTAMP:20260422T095544
CREATED:20210705T095517Z
LAST-MODIFIED:20210705T095517Z
UID:9402-1632227400-1632231000@leamingtonyogacentre.co.uk
SUMMARY:Pure Yoga
DESCRIPTION:
URL:https://leamingtonyogacentre.co.uk/event/pure-yoga-55/
LOCATION:15 Dormer Place\, Leamington Spa\, Warwickshire\, CV32 5AA\, United Kingdom
END:VEVENT
BEGIN:VEVENT
DTSTART;TZID=Europe/London:20210921T163000
DTEND;TZID=Europe/London:20210921T173000
DTSTAMP:20260422T095544
CREATED:20200928T081141Z
LAST-MODIFIED:20210803T080813Z
UID:8278-1632241800-1632245400@leamingtonyogacentre.co.uk
SUMMARY:Back Care Yoga
DESCRIPTION:
URL:https://leamingtonyogacentre.co.uk/event/back-care-yoga-355/
LOCATION:15 Dormer Place\, Leamington Spa\, Warwickshire\, CV32 5AA\, United Kingdom
END:VEVENT
BEGIN:VEVENT
DTSTART;TZID=Europe/London:20210921T180000
DTEND;TZID=Europe/London:20210921T190000
DTSTAMP:20260422T095544
CREATED:20210908T073616Z
LAST-MODIFIED:20210908T073616Z
UID:9760-1632247200-1632250800@leamingtonyogacentre.co.uk
SUMMARY:Hatha Hour
DESCRIPTION:
URL:https://leamingtonyogacentre.co.uk/event/hatha-hour-788/
LOCATION:15 Dormer Place\, Leamington Spa\, Warwickshire\, CV32 5AA\, United Kingdom
END:VEVENT
BEGIN:VEVENT
DTSTART;TZID=Europe/London:20210921T193000
DTEND;TZID=Europe/London:20210921T204500
DTSTAMP:20260422T095544
CREATED:20210725T144449Z
LAST-MODIFIED:20210725T144449Z
UID:9424-1632252600-1632257100@leamingtonyogacentre.co.uk
SUMMARY:Dynamic Hatha Yoga
DESCRIPTION:
URL:https://leamingtonyogacentre.co.uk/event/dynamic-hatha-yoga-147/
LOCATION:15 Dormer Place\, Leamington Spa\, Warwickshire\, CV32 5AA\, United Kingdom
END:VEVENT
END:VCALENDAR