BEGIN:VCALENDAR
VERSION:2.0
PRODID:-//Leamington Yoga Instructors Therapy Classes - The Heart of Yoga - ECPv4.5.13//NONSGML v1.0//EN
CALSCALE:GREGORIAN
METHOD:PUBLISH
X-WR-CALNAME:Leamington Yoga Instructors Therapy Classes - The Heart of Yoga
X-ORIGINAL-URL:https://leamingtonyogacentre.co.uk
X-WR-CALDESC:Events for Leamington Yoga Instructors Therapy Classes - The Heart of Yoga
BEGIN:VEVENT
DTSTART;TZID=Europe/London:20210831T070000
DTEND;TZID=Europe/London:20210831T083000
DTSTAMP:20260422T095209
CREATED:20210614T074008Z
LAST-MODIFIED:20210614T074008Z
UID:9169-1630393200-1630398600@leamingtonyogacentre.co.uk
SUMMARY:Morning Yoga Practice
DESCRIPTION:
URL:https://leamingtonyogacentre.co.uk/event/morning-yoga-practice-174/
LOCATION:15 Dormer Place\, Leamington Spa\, Warwickshire\, CV32 5AA\, United Kingdom
END:VEVENT
BEGIN:VEVENT
DTSTART;TZID=Europe/London:20210831T123000
DTEND;TZID=Europe/London:20210831T133000
DTSTAMP:20260422T095209
CREATED:20210628T074851Z
LAST-MODIFIED:20210628T074851Z
UID:9282-1630413000-1630416600@leamingtonyogacentre.co.uk
SUMMARY:Pure Yoga
DESCRIPTION:
URL:https://leamingtonyogacentre.co.uk/event/pure-yoga-48/
LOCATION:Warwickshire
END:VEVENT
BEGIN:VEVENT
DTSTART;TZID=Europe/London:20210831T163000
DTEND;TZID=Europe/London:20210831T173000
DTSTAMP:20260422T095209
CREATED:20210614T070713Z
LAST-MODIFIED:20210614T070713Z
UID:9129-1630427400-1630431000@leamingtonyogacentre.co.uk
SUMMARY:Back Care Yoga
DESCRIPTION:
URL:https://leamingtonyogacentre.co.uk/event/back-care-yoga-400/
LOCATION:15 Dormer Place\, Leamington Spa\, Warwickshire\, CV32 5AA\, United Kingdom
END:VEVENT
BEGIN:VEVENT
DTSTART;TZID=Europe/London:20210831T193000
DTEND;TZID=Europe/London:20210831T204500
DTSTAMP:20260422T095209
CREATED:20210702T080638Z
LAST-MODIFIED:20210702T080638Z
UID:9328-1630438200-1630442700@leamingtonyogacentre.co.uk
SUMMARY:Dynamic Hatha Yoga
DESCRIPTION:
URL:https://leamingtonyogacentre.co.uk/event/dynamic-hatha-yoga-142/
LOCATION:15 Dormer Place\, Leamington Spa\, Warwickshire\, CV32 5AA\, United Kingdom
END:VEVENT
END:VCALENDAR