BEGIN:VCALENDAR
VERSION:2.0
PRODID:-//Leamington Yoga Instructors Therapy Classes - The Heart of Yoga - ECPv4.5.13//NONSGML v1.0//EN
CALSCALE:GREGORIAN
METHOD:PUBLISH
X-WR-CALNAME:Leamington Yoga Instructors Therapy Classes - The Heart of Yoga
X-ORIGINAL-URL:https://leamingtonyogacentre.co.uk
X-WR-CALDESC:Events for Leamington Yoga Instructors Therapy Classes - The Heart of Yoga
BEGIN:VEVENT
DTSTART;TZID=Europe/London:20210729T120000
DTEND;TZID=Europe/London:20210729T130000
DTSTAMP:20260422T112500
CREATED:20210616T141113Z
LAST-MODIFIED:20210616T141113Z
UID:9220-1627560000-1627563600@leamingtonyogacentre.co.uk
SUMMARY:Pure Yoga
DESCRIPTION:
URL:https://leamingtonyogacentre.co.uk/event/pure-yoga-45/
LOCATION:15 Dormer Place\, Leamington Spa\, Warwickshire\, CV32 5AA\, United Kingdom
END:VEVENT
BEGIN:VEVENT
DTSTART;TZID=Europe/London:20210729T163000
DTEND;TZID=Europe/London:20210729T173000
DTSTAMP:20260422T112500
CREATED:20201019T111814Z
LAST-MODIFIED:20210614T114546Z
UID:8679-1627576200-1627579800@leamingtonyogacentre.co.uk
SUMMARY:Hatha Hour
DESCRIPTION:
URL:https://leamingtonyogacentre.co.uk/event/hatha-hour-667/
LOCATION:15 Dormer Place\, Leamington Spa\, Warwickshire\, CV32 5AA\, United Kingdom
END:VEVENT
BEGIN:VEVENT
DTSTART;TZID=Europe/London:20210729T180000
DTEND;TZID=Europe/London:20210729T190000
DTSTAMP:20260422T112500
CREATED:20210614T114642Z
LAST-MODIFIED:20210614T114642Z
UID:9190-1627581600-1627585200@leamingtonyogacentre.co.uk
SUMMARY:Hatha Hour
DESCRIPTION:
URL:https://leamingtonyogacentre.co.uk/event/hatha-hour-714/
LOCATION:15 Dormer Place\, Leamington Spa\, Warwickshire\, CV32 5AA\, United Kingdom
END:VEVENT
BEGIN:VEVENT
DTSTART;TZID=Europe/London:20210729T193000
DTEND;TZID=Europe/London:20210729T204500
DTSTAMP:20260422T112500
CREATED:20210616T140815Z
LAST-MODIFIED:20210616T140815Z
UID:9214-1627587000-1627591500@leamingtonyogacentre.co.uk
SUMMARY:Dynamic Hatha Yoga
DESCRIPTION:
URL:https://leamingtonyogacentre.co.uk/event/dynamic-hatha-yoga-137/
LOCATION:15 Dormer Place\, Leamington Spa\, Warwickshire\, CV32 5AA\, United Kingdom
END:VEVENT
END:VCALENDAR