BEGIN:VCALENDAR
VERSION:2.0
PRODID:-//Leamington Yoga Instructors Therapy Classes - The Heart of Yoga - ECPv4.5.13//NONSGML v1.0//EN
CALSCALE:GREGORIAN
METHOD:PUBLISH
X-WR-CALNAME:Leamington Yoga Instructors Therapy Classes - The Heart of Yoga
X-ORIGINAL-URL:https://leamingtonyogacentre.co.uk
X-WR-CALDESC:Events for Leamington Yoga Instructors Therapy Classes - The Heart of Yoga
BEGIN:VEVENT
DTSTART;TZID=Europe/London:20200915T070000
DTEND;TZID=Europe/London:20200915T083000
DTSTAMP:20260423T075518
CREATED:20200204T113850Z
LAST-MODIFIED:20200719T121623Z
UID:7522-1600153200-1600158600@leamingtonyogacentre.co.uk
SUMMARY:Morning Yoga Practice
DESCRIPTION:
URL:https://leamingtonyogacentre.co.uk/event/morning-yoga-practice-146/
LOCATION:15 Dormer Place\, Leamington Spa\, Warwickshire\, CV32 5AA\, United Kingdom
END:VEVENT
BEGIN:VEVENT
DTSTART;TZID=Europe/London:20200915T123000
DTEND;TZID=Europe/London:20200915T133000
DTSTAMP:20260423T075518
CREATED:20200823T102904Z
LAST-MODIFIED:20200823T102904Z
UID:7924-1600173000-1600176600@leamingtonyogacentre.co.uk
SUMMARY:Hatha Hour
DESCRIPTION:
URL:https://leamingtonyogacentre.co.uk/event/hatha-hour-582/
LOCATION:15 Dormer Place\, Leamington Spa\, Warwickshire\, CV32 5AA\, United Kingdom
END:VEVENT
BEGIN:VEVENT
DTSTART;TZID=Europe/London:20200915T180000
DTEND;TZID=Europe/London:20200915T190000
DTSTAMP:20260423T075518
CREATED:20200212T181551Z
LAST-MODIFIED:20200719T121709Z
UID:7531-1600192800-1600196400@leamingtonyogacentre.co.uk
SUMMARY:Hatha Hour
DESCRIPTION:
URL:https://leamingtonyogacentre.co.uk/event/hatha-hour-540/
LOCATION:15 Dormer Place\, Leamington Spa\, Warwickshire\, CV32 5AA\, United Kingdom
END:VEVENT
BEGIN:VEVENT
DTSTART;TZID=Europe/London:20200915T191500
DTEND;TZID=Europe/London:20200915T203000
DTSTAMP:20260423T075518
CREATED:20200212T182210Z
LAST-MODIFIED:20200719T121819Z
UID:7539-1600197300-1600201800@leamingtonyogacentre.co.uk
SUMMARY:Dynamic Hatha Yoga
DESCRIPTION:
URL:https://leamingtonyogacentre.co.uk/event/dynamic-hatha-yoga-100/
LOCATION:15 Dormer Place\, Leamington Spa\, Warwickshire\, CV32 5AA\, United Kingdom
END:VEVENT
END:VCALENDAR