BEGIN:VCALENDAR
VERSION:2.0
PRODID:-//Leamington Yoga Instructors Therapy Classes - The Heart of Yoga - ECPv4.5.13//NONSGML v1.0//EN
CALSCALE:GREGORIAN
METHOD:PUBLISH
X-WR-CALNAME:Leamington Yoga Instructors Therapy Classes - The Heart of Yoga
X-ORIGINAL-URL:https://leamingtonyogacentre.co.uk
X-WR-CALDESC:Events for Leamington Yoga Instructors Therapy Classes - The Heart of Yoga
BEGIN:VEVENT
DTSTART;TZID=Europe/London:20200913T113000
DTEND;TZID=Europe/London:20200913T123000
DTSTAMP:20260423T080144
CREATED:20200112T142149Z
LAST-MODIFIED:20200722T172111Z
UID:7331-1599996600-1600000200@leamingtonyogacentre.co.uk
SUMMARY:Hatha Hour
DESCRIPTION:
URL:https://leamingtonyogacentre.co.uk/event/hatha-hour-521/
LOCATION:15 Dormer Place\, Leamington Spa\, Warwickshire\, CV32 5AA\, United Kingdom
END:VEVENT
BEGIN:VEVENT
DTSTART;TZID=Europe/London:20200913T130000
DTEND;TZID=Europe/London:20200913T140000
DTSTAMP:20260423T080144
CREATED:20200716T094453Z
LAST-MODIFIED:20200722T172139Z
UID:7722-1600002000-1600005600@leamingtonyogacentre.co.uk
SUMMARY:Restorative Yoga
DESCRIPTION:
URL:https://leamingtonyogacentre.co.uk/event/restorative-yoga-172/
LOCATION:15 Dormer Place\, Leamington Spa\, Warwickshire\, CV32 5AA\, United Kingdom
END:VEVENT
BEGIN:VEVENT
DTSTART;TZID=Europe/London:20200913T163000
DTEND;TZID=Europe/London:20200913T180000
DTSTAMP:20260423T080144
CREATED:20200122T093223Z
LAST-MODIFIED:20200331T080024Z
UID:7406-1600014600-1600020000@leamingtonyogacentre.co.uk
SUMMARY:Andiappan Yoga
DESCRIPTION:
URL:https://leamingtonyogacentre.co.uk/event/andiappan-yoga-503/
LOCATION:15 Dormer Place\, Leamington Spa\, Warwickshire\, CV32 5AA\, United Kingdom
END:VEVENT
BEGIN:VEVENT
DTSTART;TZID=Europe/London:20200913T183000
DTEND;TZID=Europe/London:20200913T193000
DTSTAMP:20260423T080144
CREATED:20200123T192514Z
LAST-MODIFIED:20200331T080059Z
UID:7483-1600021800-1600025400@leamingtonyogacentre.co.uk
SUMMARY:Yin Yoga
DESCRIPTION:
URL:https://leamingtonyogacentre.co.uk/event/yin-yoga-163/
LOCATION:15 Dormer Place\, Leamington Spa\, Warwickshire\, CV32 5AA\, United Kingdom
END:VEVENT
END:VCALENDAR