BEGIN:VCALENDAR
VERSION:2.0
PRODID:-//Leamington Yoga Instructors Therapy Classes - The Heart of Yoga - ECPv4.5.13//NONSGML v1.0//EN
CALSCALE:GREGORIAN
METHOD:PUBLISH
X-WR-CALNAME:Leamington Yoga Instructors Therapy Classes - The Heart of Yoga
X-ORIGINAL-URL:https://leamingtonyogacentre.co.uk
X-WR-CALDESC:Events for Leamington Yoga Instructors Therapy Classes - The Heart of Yoga
BEGIN:VEVENT
DTSTART;TZID=Europe/London:20200830T113000
DTEND;TZID=Europe/London:20200830T123000
DTSTAMP:20260423T073900
CREATED:20191220T101003Z
LAST-MODIFIED:20200720T083515Z
UID:7216-1598787000-1598790600@leamingtonyogacentre.co.uk
SUMMARY:Hatha Hour
DESCRIPTION:
URL:https://leamingtonyogacentre.co.uk/event/hatha-hour-493/
LOCATION:15 Dormer Place\, Leamington Spa\, Warwickshire\, CV32 5AA\, United Kingdom
END:VEVENT
BEGIN:VEVENT
DTSTART;TZID=Europe/London:20200830T130000
DTEND;TZID=Europe/London:20200830T140000
DTSTAMP:20260423T073900
CREATED:20200123T191847Z
LAST-MODIFIED:20200720T083158Z
UID:7471-1598792400-1598796000@leamingtonyogacentre.co.uk
SUMMARY:Restorative Yoga
DESCRIPTION:
URL:https://leamingtonyogacentre.co.uk/event/restorative-yoga-164/
LOCATION:15 Dormer Place\, Leamington Spa\, Warwickshire\, CV32 5AA\, United Kingdom
END:VEVENT
BEGIN:VEVENT
DTSTART;TZID=Europe/London:20200830T170000
DTEND;TZID=Europe/London:20200830T180000
DTSTAMP:20260423T073900
CREATED:20200112T141224Z
LAST-MODIFIED:20200720T083316Z
UID:7323-1598806800-1598810400@leamingtonyogacentre.co.uk
SUMMARY:Hatha Hour
DESCRIPTION:
URL:https://leamingtonyogacentre.co.uk/event/hatha-hour-517/
LOCATION:15 Dormer Place\, Leamington Spa\, Warwickshire\, CV32 5AA\, United Kingdom
END:VEVENT
BEGIN:VEVENT
DTSTART;TZID=Europe/London:20200830T183000
DTEND;TZID=Europe/London:20200830T193000
DTSTAMP:20260423T073900
CREATED:20200716T192923Z
LAST-MODIFIED:20200716T192923Z
UID:7746-1598812200-1598815800@leamingtonyogacentre.co.uk
SUMMARY:Yin Yoga
DESCRIPTION:
URL:https://leamingtonyogacentre.co.uk/event/yin-yoga-180/
LOCATION:15 Dormer Place\, Leamington Spa\, Warwickshire\, CV32 5AA\, United Kingdom
END:VEVENT
END:VCALENDAR