BEGIN:VCALENDAR
VERSION:2.0
PRODID:-//Leamington Yoga Instructors Therapy Classes - The Heart of Yoga - ECPv4.5.13//NONSGML v1.0//EN
CALSCALE:GREGORIAN
METHOD:PUBLISH
X-WR-CALNAME:Leamington Yoga Instructors Therapy Classes - The Heart of Yoga
X-ORIGINAL-URL:https://leamingtonyogacentre.co.uk
X-WR-CALDESC:Events for Leamington Yoga Instructors Therapy Classes - The Heart of Yoga
BEGIN:VEVENT
DTSTART;TZID=Europe/London:20200829T070000
DTEND;TZID=Europe/London:20200829T083000
DTSTAMP:20260423T073820
CREATED:20200204T113947Z
LAST-MODIFIED:20200719T142711Z
UID:7524-1598684400-1598689800@leamingtonyogacentre.co.uk
SUMMARY:Morning Yoga Practice
DESCRIPTION:
URL:https://leamingtonyogacentre.co.uk/event/morning-yoga-practice-147/
LOCATION:15 Dormer Place\, Leamington Spa\, Warwickshire\, CV32 5AA\, United Kingdom
END:VEVENT
BEGIN:VEVENT
DTSTART;TZID=Europe/London:20200829T070000
DTEND;TZID=Europe/London:20200829T083000
DTSTAMP:20260423T073820
CREATED:20200226T181940Z
LAST-MODIFIED:20200720T074409Z
UID:7634-1598684400-1598689800@leamingtonyogacentre.co.uk
SUMMARY:Yoga Mash Up (Special Batch)
DESCRIPTION:
URL:https://leamingtonyogacentre.co.uk/event/yoga-mash-up-special-batch-122/
LOCATION:15 Dormer Place\, Leamington Spa\, Warwickshire\, CV32 5AA\, United Kingdom
END:VEVENT
BEGIN:VEVENT
DTSTART;TZID=Europe/London:20200829T110000
DTEND;TZID=Europe/London:20200829T120000
DTSTAMP:20260423T073820
CREATED:20200226T182753Z
LAST-MODIFIED:20200719T143306Z
UID:7646-1598698800-1598702400@leamingtonyogacentre.co.uk
SUMMARY:Hatha Hour
DESCRIPTION:
URL:https://leamingtonyogacentre.co.uk/event/hatha-hour-551/
LOCATION:15 Dormer Place\, Leamington Spa\, Warwickshire\, CV32 5AA\, United Kingdom
END:VEVENT
BEGIN:VEVENT
DTSTART;TZID=Europe/London:20200829T123000
DTEND;TZID=Europe/London:20200829T133000
DTSTAMP:20260423T073820
CREATED:20200226T182846Z
LAST-MODIFIED:20200719T143344Z
UID:7648-1598704200-1598707800@leamingtonyogacentre.co.uk
SUMMARY:Hatha Hour
DESCRIPTION:
URL:https://leamingtonyogacentre.co.uk/event/hatha-hour-552/
LOCATION:15 Dormer Place\, Leamington Spa\, Warwickshire\, CV32 5AA\, United Kingdom
END:VEVENT
BEGIN:VEVENT
DTSTART;TZID=Europe/London:20200829T140000
DTEND;TZID=Europe/London:20200829T150000
DTSTAMP:20260423T073820
CREATED:20200720T082616Z
LAST-MODIFIED:20200720T082616Z
UID:7784-1598709600-1598713200@leamingtonyogacentre.co.uk
SUMMARY:Back Care Yoga
DESCRIPTION:
URL:https://leamingtonyogacentre.co.uk/event/back-care-yoga-337/
LOCATION:15 Dormer Place\, Leamington Spa\, Warwickshire\, CV32 5AA\, United Kingdom
END:VEVENT
END:VCALENDAR