BEGIN:VCALENDAR
VERSION:2.0
PRODID:-//Leamington Yoga Instructors Therapy Classes - The Heart of Yoga - ECPv4.5.13//NONSGML v1.0//EN
CALSCALE:GREGORIAN
METHOD:PUBLISH
X-WR-CALNAME:Leamington Yoga Instructors Therapy Classes - The Heart of Yoga
X-ORIGINAL-URL:https://leamingtonyogacentre.co.uk
X-WR-CALDESC:Events for Leamington Yoga Instructors Therapy Classes - The Heart of Yoga
BEGIN:VEVENT
DTSTART;TZID=Europe/London:20200810T110000
DTEND;TZID=Europe/London:20200810T120000
DTSTAMP:20260423T073935
CREATED:20200112T142405Z
LAST-MODIFIED:20200719T123148Z
UID:7335-1597057200-1597060800@leamingtonyogacentre.co.uk
SUMMARY:Hatha Hour
DESCRIPTION:
URL:https://leamingtonyogacentre.co.uk/event/hatha-hour-523/
LOCATION:15 Dormer Place\, Leamington Spa\, Warwickshire\, CV32 5AA\, United Kingdom
END:VEVENT
BEGIN:VEVENT
DTSTART;TZID=Europe/London:20200810T123000
DTEND;TZID=Europe/London:20200810T133000
DTSTAMP:20260423T073935
CREATED:20200112T140738Z
LAST-MODIFIED:20200719T123841Z
UID:7313-1597062600-1597066200@leamingtonyogacentre.co.uk
SUMMARY:Hatha Hour
DESCRIPTION:
URL:https://leamingtonyogacentre.co.uk/event/hatha-hour-512/
LOCATION:15 Dormer Place\, Leamington Spa\, Warwickshire\, CV32 5AA\, United Kingdom
END:VEVENT
BEGIN:VEVENT
DTSTART;TZID=Europe/London:20200810T180000
DTEND;TZID=Europe/London:20200810T190000
DTSTAMP:20260423T073935
CREATED:20191219T095835Z
LAST-MODIFIED:20200716T085342Z
UID:7168-1597082400-1597086000@leamingtonyogacentre.co.uk
SUMMARY:Hatha Hour
DESCRIPTION:
URL:https://leamingtonyogacentre.co.uk/event/hatha-hour-487/
LOCATION:15 Dormer Place\, Leamington Spa\, Warwickshire\, CV32 5AA\, United Kingdom
END:VEVENT
BEGIN:VEVENT
DTSTART;TZID=Europe/London:20200810T193000
DTEND;TZID=Europe/London:20200810T210000
DTSTAMP:20260423T073935
CREATED:20200123T191349Z
LAST-MODIFIED:20200716T085301Z
UID:7467-1597087800-1597093200@leamingtonyogacentre.co.uk
SUMMARY:Dynamic Vinyasa
DESCRIPTION:
URL:https://leamingtonyogacentre.co.uk/event/dynamic-vinyasa-195/
LOCATION:15 Dormer Place\, Leamington Spa\, Warwickshire\, CV32 5AA\, United Kingdom
END:VEVENT
END:VCALENDAR