BEGIN:VCALENDAR
VERSION:2.0
PRODID:-//Leamington Yoga Instructors Therapy Classes - The Heart of Yoga - ECPv4.5.13//NONSGML v1.0//EN
CALSCALE:GREGORIAN
METHOD:PUBLISH
X-WR-CALNAME:Leamington Yoga Instructors Therapy Classes - The Heart of Yoga
X-ORIGINAL-URL:https://leamingtonyogacentre.co.uk
X-WR-CALDESC:Events for Leamington Yoga Instructors Therapy Classes - The Heart of Yoga
BEGIN:VEVENT
DTSTART;TZID=Europe/London:20200801T070000
DTEND;TZID=Europe/London:20200801T083000
DTSTAMP:20260423T073201
CREATED:20200123T193215Z
LAST-MODIFIED:20200710T103438Z
UID:7493-1596265200-1596270600@leamingtonyogacentre.co.uk
SUMMARY:Yoga Mash Up (Special Batch)
DESCRIPTION:
URL:https://leamingtonyogacentre.co.uk/event/yoga-mash-up-special-batch-119/
LOCATION:15 Dormer Place\, Leamington Spa\, Warwickshire\, CV32 5AA\, United Kingdom
END:VEVENT
BEGIN:VEVENT
DTSTART;TZID=Europe/London:20200801T090000
DTEND;TZID=Europe/London:20200801T103000
DTSTAMP:20260423T073201
CREATED:20200122T093324Z
LAST-MODIFIED:20200715T184559Z
UID:7408-1596272400-1596277800@leamingtonyogacentre.co.uk
SUMMARY:Andiappan Yoga
DESCRIPTION:
URL:https://leamingtonyogacentre.co.uk/event/andiappan-yoga-504/
LOCATION:15 Dormer Place\, Leamington Spa\, Warwickshire\, CV32 5AA\, United Kingdom
END:VEVENT
BEGIN:VEVENT
DTSTART;TZID=Europe/London:20200801T110000
DTEND;TZID=Europe/London:20200801T120000
DTSTAMP:20260423T073201
CREATED:20200112T144142Z
LAST-MODIFIED:20200716T093629Z
UID:7349-1596279600-1596283200@leamingtonyogacentre.co.uk
SUMMARY:Hatha Hour
DESCRIPTION:
URL:https://leamingtonyogacentre.co.uk/event/hatha-hour-530/
LOCATION:15 Dormer Place\, Leamington Spa\, Warwickshire\, CV32 5AA\, United Kingdom
END:VEVENT
BEGIN:VEVENT
DTSTART;TZID=Europe/London:20200801T123000
DTEND;TZID=Europe/London:20200801T133000
DTSTAMP:20260423T073201
CREATED:20200112T144248Z
LAST-MODIFIED:20200710T103720Z
UID:7351-1596285000-1596288600@leamingtonyogacentre.co.uk
SUMMARY:Hatha Hour
DESCRIPTION:
URL:https://leamingtonyogacentre.co.uk/event/hatha-hour-531/
LOCATION:15 Dormer Place\, Leamington Spa\, Warwickshire\, CV32 5AA\, United Kingdom
END:VEVENT
BEGIN:VEVENT
DTSTART;TZID=Europe/London:20200801T140000
DTEND;TZID=Europe/London:20200801T150000
DTSTAMP:20260423T073201
CREATED:20200122T100237Z
LAST-MODIFIED:20200710T103756Z
UID:7430-1596290400-1596294000@leamingtonyogacentre.co.uk
SUMMARY:Back Care Yoga
DESCRIPTION:
URL:https://leamingtonyogacentre.co.uk/event/back-care-yoga-328/
LOCATION:15 Dormer Place\, Leamington Spa\, Warwickshire\, CV32 5AA\, United Kingdom
END:VEVENT
END:VCALENDAR